BEGIN:VCALENDAR
VERSION:2.0
PRODID:-//Squarespace Inc/Squarespace 6//v6//EN
BEGIN:VEVENT
UID:5c5ccfd2c830251025450efe@squarespace.com
DTSTAMP:20190208T003956Z
DTSTART:20190215T010000Z
DTEND:20190215T100000Z
SUMMARY:Fiver for a Fiery
END:VEVENT
END:VCALENDAR
