BEGIN:VCALENDAR
VERSION:2.0
PRODID:-//Squarespace Inc/Squarespace 6//v6//EN
BEGIN:VEVENT
UID:5c5ccff5eef1a1f4e0f6b4f9@squarespace.com
DTSTAMP:20190208T004038Z
DTSTART:20190208T010000Z
DTEND:20190208T100000Z
SUMMARY:Fiver for a Fiery
END:VEVENT
END:VCALENDAR
