BEGIN:VCALENDAR
VERSION:2.0
PRODID:-//Squarespace Inc/Squarespace 6//v6//EN
BEGIN:VEVENT
UID:5c467d15898583fc9a9956d9@squarespace.com
DTSTAMP:20190122T023355Z
DTSTART:20190128T010000Z
DTEND:20190128T090000Z
SUMMARY:Australia Day Weekend
END:VEVENT
END:VCALENDAR
