BEGIN:VCALENDAR
VERSION:2.0
PRODID:-//Squarespace Inc/Squarespace 6//v6//EN
BEGIN:VEVENT
UID:5b2111a48a922d6f5dc3e431@squarespace.com
DTSTAMP:20180615T023504Z
DTSTART:20180201T073000Z
DTEND:20180201T113000Z
SUMMARY:Christmas in July. A VAC Country Fundraiser
END:VEVENT
END:VCALENDAR
