BEGIN:VCALENDAR
VERSION:2.0
PRODID:-//Squarespace Inc/Squarespace 6//v6//EN
BEGIN:VEVENT
UID:5a79341208522976eac501ed@squarespace.com
DTSTAMP:20180206T045240Z
DTSTART:20180225T070000Z
DTEND:20180225T113000Z
SUMMARY:Watch ABC Movie RIOT and enjoy Sunday Night Roast
END:VEVENT
END:VCALENDAR
