BEGIN:VCALENDAR
VERSION:2.0
PRODID:-//Squarespace Inc/Squarespace 6//v6//EN
BEGIN:VEVENT
UID:5c147d7670a6ad42157261c2@squarespace.com
DTSTAMP:20181215T040650Z
DTSTART:20181231T093000Z
DTEND:20181231T140000Z
SUMMARY:New Years Eve at the Daylesford Hotel
END:VEVENT
END:VCALENDAR
