BEGIN:VCALENDAR
VERSION:2.0
PRODID:-//Squarespace Inc/Squarespace 6//v6//EN
BEGIN:VEVENT
UID:59af410bff7c5047c88dd884@squarespace.com
DTSTAMP:20170906T003108Z
DTSTART:20170930T020000Z
DTEND:20170930T073000Z
SUMMARY:AFL Grand Final Party
END:VEVENT
END:VCALENDAR
