BEGIN:VCALENDAR
VERSION:2.0
PRODID:-//Squarespace Inc/Squarespace 6//v6//EN
BEGIN:VEVENT
UID:59b0e789d2b857fc86d2044c@squarespace.com
DTSTAMP:20170907T063041Z
DTSTART:20170917T020000Z
DTEND:20170917T050000Z
SUMMARY:Sunday Roast Lunch
END:VEVENT
END:VCALENDAR
