BEGIN:VCALENDAR
VERSION:2.0
PRODID:-//Squarespace Inc/Squarespace 6//v6//EN
BEGIN:VEVENT
UID:59b0e7989f7456ac86e7c4d7@squarespace.com
DTSTAMP:20180613T124048Z
DTSTART:20180617T070000Z
DTEND:20180617T100000Z
SUMMARY:Sunday Roast Dinner
END:VEVENT
END:VCALENDAR
