BEGIN:VCALENDAR
VERSION:2.0
PRODID:-//Squarespace Inc/Squarespace 6//v6//EN
BEGIN:VEVENT
UID:5b21129ef950b752810958fc@squarespace.com
DTSTAMP:20180613T124839Z
DTSTART:20180624T070000Z
DTEND:20180624T100000Z
SUMMARY:Sunday Roast Dinner
END:VEVENT
END:VCALENDAR
