BEGIN:VCALENDAR
VERSION:2.0
PRODID:-//Squarespace Inc/Squarespace 6//v6//EN
BEGIN:VEVENT
UID:5b211318f950b75281096aaf@squarespace.com
DTSTAMP:20190219T005353Z
DTSTART:20180701T070000Z
DTEND:20180701T100000Z
SUMMARY:Sunday Roast Dinner
END:VEVENT
END:VCALENDAR
