BEGIN:VCALENDAR
VERSION:2.0
PRODID:-//Squarespace Inc/Squarespace 6//v6//EN
BEGIN:VEVENT
UID:5c6b53a19b747a1be0f5650a@squarespace.com
DTSTAMP:20190219T005630Z
DTSTART:20190224T060000Z
DTEND:20190224T090000Z
SUMMARY:Sunday Roast
END:VEVENT
END:VCALENDAR
