BEGIN:VCALENDAR
VERSION:2.0
PRODID:-//Squarespace Inc/Squarespace 6//v6//EN
BEGIN:VEVENT
UID:59af3f028dd04135a0c38ebb@squarespace.com
DTSTAMP:20170906T001929Z
DTSTART:20170922T070000Z
DTEND:20170922T090000Z
SUMMARY:Friday Night Drinks!
END:VEVENT
END:VCALENDAR
