BEGIN:VCALENDAR
VERSION:2.0
PRODID:-//Squarespace Inc/Squarespace 6//v6//EN
BEGIN:VEVENT
UID:59af3f1a3e00be820ce7429d@squarespace.com
DTSTAMP:20170906T001947Z
DTSTART:20170929T070000Z
DTEND:20170929T090000Z
SUMMARY:Friday Night Drinks!
END:VEVENT
END:VCALENDAR
