BEGIN:VCALENDAR
VERSION:2.0
PRODID:-//Squarespace Inc/Squarespace 6//v6//EN
BEGIN:VEVENT
UID:59b0e72fcf81e0bf5f3ea189@squarespace.com
DTSTAMP:20170907T062911Z
DTSTART:20171013T060000Z
DTEND:20171013T080000Z
SUMMARY:Friday Night Drinks!
END:VEVENT
END:VCALENDAR
