BEGIN:VCALENDAR
VERSION:2.0
PRODID:-//Squarespace Inc/Squarespace 6//v6//EN
BEGIN:VEVENT
UID:59b0e74412abd93c94c6e039@squarespace.com
DTSTAMP:20170907T062933Z
DTSTART:20171020T060000Z
DTEND:20171020T080000Z
SUMMARY:Friday Night Drinks!
END:VEVENT
END:VCALENDAR
