BEGIN:VCALENDAR
VERSION:2.0
PRODID:-//Squarespace Inc/Squarespace 6//v6//EN
BEGIN:VEVENT
UID:59b0e757e5dd5b46567e8499@squarespace.com
DTSTAMP:20170907T062952Z
DTSTART:20171027T060000Z
DTEND:20171027T080000Z
SUMMARY:Friday Night Drinks!
END:VEVENT
END:VCALENDAR
