BEGIN:VCALENDAR
VERSION:2.0
PRODID:-//Squarespace Inc/Squarespace 6//v6//EN
BEGIN:VEVENT
UID:59f69e690d9297f9ed748baf@squarespace.com
DTSTAMP:20171030T033909Z
DTSTART:20171107T010000Z
DTEND:20171107T070000Z
SUMMARY:Melbourne Cup Day Carnival
END:VEVENT
END:VCALENDAR
