BEGIN:VCALENDAR
VERSION:2.0
PRODID:-//Squarespace Inc/Squarespace 6//v6//EN
BEGIN:VEVENT
UID:59f69e40e4966b0784e01b45@squarespace.com
DTSTAMP:20171030T033701Z
DTSTART:20171106T010000Z
DTEND:20171106T040000Z
SUMMARY:Long Weekend - we are open for lunch
END:VEVENT
END:VCALENDAR
