BEGIN:VCALENDAR
VERSION:2.0
PRODID:-//Squarespace Inc/Squarespace 6//v6//EN
BEGIN:VEVENT
UID:59d6f8c73e00befc732ea214@squarespace.com
DTSTAMP:20171030T033603Z
DTSTART:20171115T073000Z
DTEND:20171115T113000Z
SUMMARY:Results Night: Yes or No - Let's be together.
END:VEVENT
END:VCALENDAR
