BEGIN:VCALENDAR
VERSION:2.0
PRODID:-//Squarespace Inc/Squarespace 6//v6//EN
BEGIN:VEVENT
UID:59af3ffb37c5817a20c71b2e@squarespace.com
DTSTAMP:20170906T002332Z
DTSTART:20170921T070000Z
DTEND:20170921T105958Z
SUMMARY:Thursday is Steak Night
END:VEVENT
END:VCALENDAR
