BEGIN:VCALENDAR
VERSION:2.0
PRODID:-//Squarespace Inc/Squarespace 6//v6//EN
BEGIN:VEVENT
UID:59af400cc027d8e9bfa49875@squarespace.com
DTSTAMP:20170906T002347Z
DTSTART:20170928T070000Z
DTEND:20170928T105958Z
SUMMARY:Thursday is Steak Night
END:VEVENT
END:VCALENDAR
