BEGIN:VCALENDAR
VERSION:2.0
PRODID:-//Squarespace Inc/Squarespace 6//v6//EN
BEGIN:VEVENT
UID:59af401cf14aa16cb28949e0@squarespace.com
DTSTAMP:20170906T002408Z
DTSTART:20171005T060000Z
DTEND:20171005T095958Z
SUMMARY:Thursday is Steak Night
END:VEVENT
END:VCALENDAR
