BEGIN:VCALENDAR
VERSION:2.0
PRODID:-//Squarespace Inc/Squarespace 6//v6//EN
BEGIN:VEVENT
UID:59d6f6ea4c326dcba5dbde7a@squarespace.com
DTSTAMP:20171006T032244Z
DTSTART:20171012T060000Z
DTEND:20171012T095958Z
SUMMARY:Thursday is Steak Night
END:VEVENT
END:VCALENDAR
