BEGIN:VCALENDAR
VERSION:2.0
PRODID:-//Squarespace Inc/Squarespace 6//v6//EN
BEGIN:VEVENT
UID:59d6f70ee3df282e4e6d8c81@squarespace.com
DTSTAMP:20171006T032302Z
DTSTART:20171019T060000Z
DTEND:20171019T095958Z
SUMMARY:Thursday is Steak Night
END:VEVENT
END:VCALENDAR
