BEGIN:VCALENDAR
VERSION:2.0
PRODID:-//Squarespace Inc/Squarespace 6//v6//EN
BEGIN:VEVENT
UID:59d6f71fb1ffb66a98a30f63@squarespace.com
DTSTAMP:20171006T032319Z
DTSTART:20171026T060000Z
DTEND:20171026T095958Z
SUMMARY:Thursday is Steak Night
END:VEVENT
END:VCALENDAR
