BEGIN:VCALENDAR
VERSION:2.0
PRODID:-//Squarespace Inc/Squarespace 6//v6//EN
BEGIN:VEVENT
UID:59f69d9224a694055a756abe@squarespace.com
DTSTAMP:20171030T033408Z
DTSTART:20171109T060000Z
DTEND:20171109T095958Z
SUMMARY:Thursday is Steak Night
END:VEVENT
END:VCALENDAR
