BEGIN:VCALENDAR
VERSION:2.0
PRODID:-//Squarespace Inc/Squarespace 6//v6//EN
BEGIN:VEVENT
UID:59f69f1a53450a1e3bcd8db7@squarespace.com
DTSTAMP:20171030T034018Z
DTSTART:20171116T060000Z
DTEND:20171116T095958Z
SUMMARY:Thursday is Steak Night
END:VEVENT
END:VCALENDAR
