BEGIN:VCALENDAR
VERSION:2.0
PRODID:-//Squarespace Inc/Squarespace 6//v6//EN
BEGIN:VEVENT
UID:5a641e820852297c41a8c4f9@squarespace.com
DTSTAMP:20180121T050103Z
DTSTART:20180201T060000Z
DTEND:20180201T095958Z
SUMMARY:Thursday is Steak Night
END:VEVENT
END:VCALENDAR
