BEGIN:VCALENDAR
VERSION:2.0
PRODID:-//Squarespace Inc/Squarespace 6//v6//EN
BEGIN:VEVENT
UID:5a641e97c830251a70bb0c8b@squarespace.com
DTSTAMP:20180121T050120Z
DTSTART:20180208T060000Z
DTEND:20180208T095958Z
SUMMARY:Thursday is Steak Night
END:VEVENT
END:VCALENDAR
