BEGIN:VCALENDAR
VERSION:2.0
PRODID:-//Squarespace Inc/Squarespace 6//v6//EN
BEGIN:VEVENT
UID:5a641eb8f9619ad9da876f62@squarespace.com
DTSTAMP:20180121T050156Z
DTSTART:20180222T060000Z
DTEND:20180222T095958Z
SUMMARY:Thursday is Steak Night
END:VEVENT
END:VCALENDAR
