BEGIN:VCALENDAR
VERSION:2.0
PRODID:-//Squarespace Inc/Squarespace 6//v6//EN
BEGIN:VEVENT
UID:5a641ece53450ae813e66c86@squarespace.com
DTSTAMP:20180121T050217Z
DTSTART:20180301T060000Z
DTEND:20180301T095958Z
SUMMARY:Thursday is Steak Night
END:VEVENT
END:VCALENDAR
