BEGIN:VCALENDAR
VERSION:2.0
PRODID:-//Squarespace Inc/Squarespace 6//v6//EN
BEGIN:VEVENT
UID:5a641ee0e2c483fd643ebec8@squarespace.com
DTSTAMP:20180121T050253Z
DTSTART:20180308T060000Z
DTEND:20180308T095958Z
SUMMARY:Thursday Steak Night
END:VEVENT
END:VCALENDAR
