BEGIN:VCALENDAR
VERSION:2.0
PRODID:-//Squarespace Inc/Squarespace 6//v6//EN
BEGIN:VEVENT
UID:5a641f15419202749bb29f4e@squarespace.com
DTSTAMP:20180121T050324Z
DTSTART:20180322T060000Z
DTEND:20180322T095958Z
SUMMARY:Thursday Steak Night
END:VEVENT
END:VCALENDAR
