BEGIN:VCALENDAR
VERSION:2.0
PRODID:-//Squarespace Inc/Squarespace 6//v6//EN
BEGIN:VEVENT
UID:5a641f2371c10be0a07b5291@squarespace.com
DTSTAMP:20180121T050340Z
DTSTART:20180329T060000Z
DTEND:20180329T095958Z
SUMMARY:Thursday Steak Night
END:VEVENT
END:VCALENDAR
