BEGIN:VCALENDAR
VERSION:2.0
PRODID:-//Squarespace Inc/Squarespace 6//v6//EN
BEGIN:VEVENT
UID:5b210f0f1ae6cf43f6ed4108@squarespace.com
DTSTAMP:20180613T123340Z
DTSTART:20180614T070000Z
DTEND:20180614T105958Z
SUMMARY:Thursday Steak Night
END:VEVENT
END:VCALENDAR
