BEGIN:VCALENDAR
VERSION:2.0
PRODID:-//Squarespace Inc/Squarespace 6//v6//EN
BEGIN:VEVENT
UID:5b21128c8a922d6f5dc40753@squarespace.com
DTSTAMP:20180613T124822Z
DTSTART:20180621T070000Z
DTEND:20180621T105958Z
SUMMARY:Thursday Steak Night
END:VEVENT
END:VCALENDAR
