BEGIN:VCALENDAR
VERSION:2.0
PRODID:-//Squarespace Inc/Squarespace 6//v6//EN
BEGIN:VEVENT
UID:5b2113020e2e72c2ed7c4e6e@squarespace.com
DTSTAMP:20180613T125019Z
DTSTART:20180628T070000Z
DTEND:20180628T105958Z
SUMMARY:Thursday Steak Night
END:VEVENT
END:VCALENDAR
