BEGIN:VCALENDAR
VERSION:2.0
PRODID:-//Squarespace Inc/Squarespace 6//v6//EN
BEGIN:VEVENT
UID:5b2113830e2e72c2ed7c5fef@squarespace.com
DTSTAMP:20190208T003049Z
DTSTART:20190214T060000Z
DTEND:20190214T095958Z
SUMMARY:Thursday Steak Night
END:VEVENT
END:VCALENDAR
