BEGIN:VCALENDAR
VERSION:2.0
PRODID:-//Squarespace Inc/Squarespace 6//v6//EN
BEGIN:VEVENT
UID:5c5ccdba104c7b6cb9305b9c@squarespace.com
DTSTAMP:20190219T005317Z
DTSTART:20190221T060000Z
DTEND:20190221T095958Z
SUMMARY:Thursday Steak Night
END:VEVENT
END:VCALENDAR
