BEGIN:VCALENDAR
VERSION:2.0
PRODID:-//Squarespace Inc/Squarespace 6//v6//EN
BEGIN:VEVENT
UID:59d6f73412abd9e60b50e727@squarespace.com
DTSTAMP:20171006T032343Z
DTSTART:20171102T060000Z
DTEND:20171102T095958Z
SUMMARY:Thursday is Steak Night
END:VEVENT
END:VCALENDAR
