BEGIN:VCALENDAR
VERSION:2.0
PRODID:-//Squarespace Inc/Squarespace 6//v6//EN
BEGIN:VEVENT
UID:59af3f84579fb35d1a4b7e3e@squarespace.com
DTSTAMP:20170906T002133Z
DTSTART:20170920T070000Z
DTEND:20170920T105959Z
SUMMARY:Pot & Parma Night
END:VEVENT
END:VCALENDAR
