BEGIN:VCALENDAR
VERSION:2.0
PRODID:-//Squarespace Inc/Squarespace 6//v6//EN
BEGIN:VEVENT
UID:59af3f9603596e51ce134edf@squarespace.com
DTSTAMP:20170906T002150Z
DTSTART:20170927T070000Z
DTEND:20170927T105959Z
SUMMARY:Pot & Parma Night
END:VEVENT
END:VCALENDAR
