BEGIN:VCALENDAR
VERSION:2.0
PRODID:-//Squarespace Inc/Squarespace 6//v6//EN
BEGIN:VEVENT
UID:59af3fbc9f8dced29f4e8749@squarespace.com
DTSTAMP:20170906T002236Z
DTSTART:20171004T060000Z
DTEND:20171004T095959Z
SUMMARY:Pot & Parma Night
END:VEVENT
END:VCALENDAR
