BEGIN:VCALENDAR
VERSION:2.0
PRODID:-//Squarespace Inc/Squarespace 6//v6//EN
BEGIN:VEVENT
UID:59d6f74b8fd4d2c45d46de62@squarespace.com
DTSTAMP:20171006T032403Z
DTSTART:20171011T060000Z
DTEND:20171011T095959Z
SUMMARY:Pot & Parma Night
END:VEVENT
END:VCALENDAR
