BEGIN:VCALENDAR
VERSION:2.0
PRODID:-//Squarespace Inc/Squarespace 6//v6//EN
BEGIN:VEVENT
UID:59d6f75e0abd04460405bb24@squarespace.com
DTSTAMP:20171006T032422Z
DTSTART:20171018T060000Z
DTEND:20171018T095959Z
SUMMARY:Pot & Parma Night
END:VEVENT
END:VCALENDAR
