BEGIN:VCALENDAR
VERSION:2.0
PRODID:-//Squarespace Inc/Squarespace 6//v6//EN
BEGIN:VEVENT
UID:59d6f76ecd39c3da2f76fca3@squarespace.com
DTSTAMP:20171006T032438Z
DTSTART:20171025T060000Z
DTEND:20171025T095959Z
SUMMARY:Pot & Parma Night
END:VEVENT
END:VCALENDAR
