BEGIN:VCALENDAR
VERSION:2.0
PRODID:-//Squarespace Inc/Squarespace 6//v6//EN
BEGIN:VEVENT
UID:59d6f77fbce176944e2f3a04@squarespace.com
DTSTAMP:20171006T032457Z
DTSTART:20171101T060000Z
DTEND:20171101T095959Z
SUMMARY:Pot & Parma Night
END:VEVENT
END:VCALENDAR
