BEGIN:VCALENDAR
VERSION:2.0
PRODID:-//Squarespace Inc/Squarespace 6//v6//EN
BEGIN:VEVENT
UID:59f69dee0852291b22a4b708@squarespace.com
DTSTAMP:20171030T033611Z
DTSTART:20171122T060000Z
DTEND:20171122T095959Z
SUMMARY:Pot & Parma Night
END:VEVENT
END:VCALENDAR
