BEGIN:VCALENDAR
VERSION:2.0
PRODID:-//Squarespace Inc/Squarespace 6//v6//EN
BEGIN:VEVENT
UID:59f69f7910952624f56d9d03@squarespace.com
DTSTAMP:20171030T034154Z
DTSTART:20171129T060000Z
DTEND:20171129T095959Z
SUMMARY:Pot & Parma Night
END:VEVENT
END:VCALENDAR
